BEGIN:VCALENDAR
VERSION:2.0
PRODID:-//Harrisburg Public District Library - Harrisburg, Illinois - ECPv6.8.2.1//NONSGML v1.0//EN
CALSCALE:GREGORIAN
METHOD:PUBLISH
X-WR-CALNAME:Harrisburg Public District Library - Harrisburg, Illinois
X-ORIGINAL-URL:https://harrisburglibrary.org
X-WR-CALDESC:Events for Harrisburg Public District Library - Harrisburg, Illinois
REFRESH-INTERVAL;VALUE=DURATION:PT1H
X-Robots-Tag:noindex
X-PUBLISHED-TTL:PT1H
BEGIN:VTIMEZONE
TZID:America/New_York
BEGIN:DAYLIGHT
TZOFFSETFROM:-0500
TZOFFSETTO:-0400
TZNAME:EDT
DTSTART:20260308T070000
END:DAYLIGHT
BEGIN:STANDARD
TZOFFSETFROM:-0400
TZOFFSETTO:-0500
TZNAME:EST
DTSTART:20261101T060000
END:STANDARD
END:VTIMEZONE
BEGIN:VEVENT
DTSTART;TZID=America/New_York:20260127T180000
DTEND;TZID=America/New_York:20260127T190000
DTSTAMP:20260419T094750
CREATED:20251210T152636Z
LAST-MODIFIED:20251229T203905Z
UID:15207-1769536800-1769540400@harrisburglibrary.org
SUMMARY:Family Play Lab
DESCRIPTION:
URL:https://harrisburglibrary.org/event/family-play-lab-5/
END:VEVENT
BEGIN:VEVENT
DTSTART;TZID=America/New_York:20260127T153000
DTEND;TZID=America/New_York:20260127T163000
DTSTAMP:20260419T094750
CREATED:20251210T152819Z
LAST-MODIFIED:20251210T152819Z
UID:15219-1769527800-1769531400@harrisburglibrary.org
SUMMARY:Lego Club
DESCRIPTION:
URL:https://harrisburglibrary.org/event/lego-club-3/
END:VEVENT
BEGIN:VEVENT
DTSTART;TZID=America/New_York:20260126T180000
DTEND;TZID=America/New_York:20260126T190000
DTSTAMP:20260419T094750
CREATED:20251210T152806Z
LAST-MODIFIED:20251210T152806Z
UID:15217-1769450400-1769454000@harrisburglibrary.org
SUMMARY:Facebook Live Trivia
DESCRIPTION:
URL:https://harrisburglibrary.org/event/facebook-live-trivia-6/
END:VEVENT
BEGIN:VEVENT
DTSTART;TZID=America/New_York:20260124T103000
DTEND;TZID=America/New_York:20260124T120000
DTSTAMP:20260419T094750
CREATED:20251210T152750Z
LAST-MODIFIED:20251210T152750Z
UID:15215-1769250600-1769256000@harrisburglibrary.org
SUMMARY:Genealogy Work Day
DESCRIPTION:
URL:https://harrisburglibrary.org/event/genealogy-work-day-22/
END:VEVENT
BEGIN:VEVENT
DTSTART;TZID=America/New_York:20260123T163000
DTEND;TZID=America/New_York:20260123T193000
DTSTAMP:20260419T094750
CREATED:20251216T162710Z
LAST-MODIFIED:20251216T162710Z
UID:15261-1769185800-1769196600@harrisburglibrary.org
SUMMARY:Dungeons & Dragons First Session
DESCRIPTION:
URL:https://harrisburglibrary.org/event/dungeons-dragons-first-session/
END:VEVENT
BEGIN:VEVENT
DTSTART;TZID=America/New_York:20260122T180000
DTEND;TZID=America/New_York:20260122T190000
DTSTAMP:20260419T094750
CREATED:20251210T152731Z
LAST-MODIFIED:20251210T152731Z
UID:15213-1769104800-1769108400@harrisburglibrary.org
SUMMARY:Thursday Night Book Discussion
DESCRIPTION:
URL:https://harrisburglibrary.org/event/thursday-night-book-discussion/
END:VEVENT
BEGIN:VEVENT
DTSTART;TZID=America/New_York:20260122T100000
DTEND;TZID=America/New_York:20260122T110000
DTSTAMP:20260419T094750
CREATED:20251210T152710Z
LAST-MODIFIED:20251210T152710Z
UID:15211-1769076000-1769079600@harrisburglibrary.org
SUMMARY:Story Time
DESCRIPTION:
URL:https://harrisburglibrary.org/event/story-time-100/
END:VEVENT
BEGIN:VEVENT
DTSTART;TZID=America/New_York:20260121T170000
DTEND;TZID=America/New_York:20260121T180000
DTSTAMP:20260419T094750
CREATED:20251210T152652Z
LAST-MODIFIED:20251210T152652Z
UID:15209-1769014800-1769018400@harrisburglibrary.org
SUMMARY:Board Meeting
DESCRIPTION:
URL:https://harrisburglibrary.org/event/board-meeting-2/
END:VEVENT
BEGIN:VEVENT
DTSTART;TZID=America/New_York:20260119T090000
DTEND;TZID=America/New_York:20260119T200000
DTSTAMP:20260419T094750
CREATED:20251210T152620Z
LAST-MODIFIED:20251210T152620Z
UID:15205-1768813200-1768852800@harrisburglibrary.org
SUMMARY:LIBRARY CLOSED FOR MARTIN LUTHER KING JR. DAY
DESCRIPTION:
URL:https://harrisburglibrary.org/event/library-closed-for-martin-luther-king-jr-day-3/
END:VEVENT
END:VCALENDAR