BEGIN:VCALENDAR
VERSION:2.0
PRODID:-//Harrisburg Public District Library - Harrisburg, Illinois - ECPv6.8.2.1//NONSGML v1.0//EN
CALSCALE:GREGORIAN
METHOD:PUBLISH
X-WR-CALNAME:Harrisburg Public District Library - Harrisburg, Illinois
X-ORIGINAL-URL:https://harrisburglibrary.org
X-WR-CALDESC:Events for Harrisburg Public District Library - Harrisburg, Illinois
REFRESH-INTERVAL;VALUE=DURATION:PT1H
X-Robots-Tag:noindex
X-PUBLISHED-TTL:PT1H
BEGIN:VTIMEZONE
TZID:America/New_York
BEGIN:DAYLIGHT
TZOFFSETFROM:-0500
TZOFFSETTO:-0400
TZNAME:EDT
DTSTART:20260308T070000
END:DAYLIGHT
BEGIN:STANDARD
TZOFFSETFROM:-0400
TZOFFSETTO:-0500
TZNAME:EST
DTSTART:20261101T060000
END:STANDARD
END:VTIMEZONE
BEGIN:VEVENT
DTSTART;TZID=America/New_York:20260424T100000
DTEND;TZID=America/New_York:20260424T103000
DTSTAMP:20260424T055907
CREATED:20260331T181338Z
LAST-MODIFIED:20260331T181338Z
UID:15811-1777024800-1777026600@harrisburglibrary.org
SUMMARY:Little Ones Story Time
DESCRIPTION:
URL:https://harrisburglibrary.org/event/little-ones-story-time-26/
END:VEVENT
BEGIN:VEVENT
DTSTART;TZID=America/New_York:20260424T180000
DTEND;TZID=America/New_York:20260424T200000
DTSTAMP:20260424T055907
CREATED:20260324T160415Z
LAST-MODIFIED:20260331T180956Z
UID:15769-1777053600-1777060800@harrisburglibrary.org
SUMMARY:Summer Soundcheck on the Library Lawn
DESCRIPTION:
URL:https://harrisburglibrary.org/event/summer-soundcheck-on-lawn/
END:VEVENT
END:VCALENDAR